BEGIN:VCALENDAR
VERSION:2.0
PRODID:-//SquashLiga.pl - ECPv4.2//NONSGML v1.0//EN
CALSCALE:GREGORIAN
METHOD:PUBLISH
X-WR-CALNAME:SquashLiga.pl
X-ORIGINAL-URL:http://squashliga.pl/new
X-WR-CALDESC:Events for SquashLiga.pl
BEGIN:VEVENT
DTSTART;TZID=Europe/Warsaw:20180921T200000
DTEND;TZID=Europe/Warsaw:20180921T235500
DTSTAMP:20260419T131535
CREATED:20180830T055418
LAST-MODIFIED:20180923T170620
UID:1214-1537560000-1537574100@squashliga.pl
SUMMARY:2018-09-21 Turniej Urodzinowy Mateusza kat.B
DESCRIPTION:Zapraszamy na Turniej Urodzinowy MateuszaPFS Kat.  B który odbędzie się w Good Luck Club Gdańsk w dniu 21.09.2018 (piątek) od godziny 20:00 WYNIKI1 Daniel Kantor2 Mateusz Skorek3 Mateusz Sobiecki4 Karol Majcherski5 Tomasz Rabcewicz6 Michał Bakulski7 Marcin Wilski8 Grzegorz Pacuła9 Andrzej Rogowski10 Jan Wawrykiewicz11 Paweł Raczyński12 Przemysław Nowak13 Marcin Tymieniecki14 Karol Janiszewski15 Paweł Małocha16 Aleksandra Szumska17 Paweł Kaparski18 Patryk Warsiński19 Paweł Seredyn20 Tomasz Rak21 Adam Wietrzyński22 Rafał Cieplicki-Szulc23 Marek Kałużny24 Piotr Piórko25 Małgorzata Łukasik26 Paweł Gruszczyński27 Piotr Szczygielski28 Krzysztof Lewandowski29 Mikołaj KonopkaOPŁATA WPISOWA 100 PLN gotówką w recepcji DrabinkadrabinkaZAPISY ZAMKNIĘTE (ZGŁOSZENIA 19.09.2018 (środa) GODZINA 12:00)  LOSOWANIE 19.09.2018 (środa) GODZINA 20:00SZACUNKOWY CZAS TRWANIA TURNIEJU: 16os.- 3H\, 24os. – 5H\, 32os – 7HDla najlepszych w turnieju przewidziane są puchary oraz nagrody od SquashLiga.pl. W turnieju brać mogą udział tylko zawodnicy z licencją PZSq\, ktora wypełniamy i wysyłamy zgodnie z instrukcją: LICENCJA W zależności od liczby uczestników drabinka 16\, 24 lub 32 i ewentualne eliminacje (od 8:00 do 9:00) Zawodnicy\, którzy odpadną w eliminacjach rozegrają turniej pocieszenia po turnieju głównym lub otrzymają zwrot 75PLN\, oraz zostaną sklasyfikowani na równorzędnych ostatnich miejscach.Na opłatę składa się koszt wynajmu kortu w kwocie 30pln / osobę za jednorazowy udział w turnieju\, oraz pozostałe opłaty związane z obsługą turnieju Wpłaty gotówką w dniu turnieju w klubie.Zgłoszenia mailowo pod adresem info@squashliga.pl lub telefonicznie 501 022 775 Osoby\, które zgłoszą się\, a nie wniosą opłaty i nie pojawią się na turnieju zostaną odnotowane w protokole turniejowym PZSqLISTA STARTOWA\, ZAPISY ZAMKNIETE\,WERYFIKACJA1. 27651    Daniel    Kantor        129 2. 17077    Mateusz    Sobiecki        187 3.  25486    Mateusz    Skorek        248 4.  27880    Karol    Majcherski        256 5.    26346    Marcin    Wilski        320 6.    27179    Paweł    Raczyński        340 7.   31747    Michał    Bakulski        343 8.  23930    Tomasz    Rabcewicz        510 9.    21729    Grzegorz    Pacuła        613 10.    23106    Paweł    Małocha        801 11.    21753    Mikołaj    Konopka        972 12.    24971    Marcin    Tymieniecki        1103 13.    31441    Patryk    Warsiński        1222 14.    21748    Jan    Wawrykiewicz        1323 15.    30792    Aleksandra    Szumska        1324 16.    30434    Karol    Janiszewski        1332 17.    29067    Paweł    Seredyn        1387 18.    32064    Przemysław    Nowak        1698 19.    24997    Tomasz    Rak        1736 20.    31439    Rafał    Cieplicki-Szulc        2031 21.    23935    Andrzej    Rogowski        2130 22.    26794    Adam    Wietrzyński        2215 23.    30791    Małgorzata    Łukasik        2399 24.    33046    Piotr    Szczygielski        2691 25.    31440    Krzysztof    Lewandowski        99999 26.    22919    Marek    Kałużny        99999 27.    34416    Paweł    Gruszczyński        99999 28.    25762    Paweł    Kaparski        99999 29.    34417    Piotr    Piórko        99999  
URL:http://squashliga.pl/new/event/2018-09-21-turniej-urodzinowy-mateusza-kat-b/
CATEGORIES:Turniej
END:VEVENT
END:VCALENDAR